BEGIN:VCALENDAR
VERSION:2.0
PRODID:-//Universidad Dr. Andrés Bello - ECPv6.8.3//NONSGML v1.0//EN
CALSCALE:GREGORIAN
METHOD:PUBLISH
X-WR-CALNAME:Universidad Dr. Andrés Bello
X-ORIGINAL-URL:https://www.unab.edu.sv
X-WR-CALDESC:Eventos para Universidad Dr. Andrés Bello
REFRESH-INTERVAL;VALUE=DURATION:PT1H
X-Robots-Tag:noindex
X-PUBLISHED-TTL:PT1H
BEGIN:VTIMEZONE
TZID:America/El_Salvador
BEGIN:STANDARD
TZOFFSETFROM:-0600
TZOFFSETTO:-0600
TZNAME:CST
DTSTART:20240101T000000
END:STANDARD
END:VTIMEZONE
BEGIN:VEVENT
DTSTART;TZID=America/El_Salvador:20250106T080000
DTEND;TZID=America/El_Salvador:20250109T180000
DTSTAMP:20260423T123322
CREATED:20241214T151204Z
LAST-MODIFIED:20250110T204037Z
UID:11424-1736150400-1736445600@www.unab.edu.sv
SUMMARY:EXAMEN DE REPOSICIÓN CICLO 02/2024
DESCRIPTION:EXIGENCIAS ECONÓMICAS: SOLVENCIA DEL CICLO\, ARANCEL DE EXAMEN.
URL:https://www.unab.edu.sv/eventunab/examen-de-reposicion/
LOCATION:Universidad Dr. Andrés Bello\, 1a Calle Pte. 2128\, San Salvador\, San Salvador\, 06015\, El Salvador
ATTACH;FMTTYPE=image/png:https://www.unab.edu.sv/wp-content/uploads/2024/12/Logos-U.png
END:VEVENT
BEGIN:VEVENT
DTSTART;TZID=America/El_Salvador:20250102T080000
DTEND;TZID=America/El_Salvador:20250131T180000
DTSTAMP:20260423T123322
CREATED:20241216T211411Z
LAST-MODIFIED:20241216T211411Z
UID:11483-1735804800-1738346400@www.unab.edu.sv
SUMMARY:CAMBIO DE CARRERA Y TRASLADO DE REGIONAL PARA CICLO 01/2025
DESCRIPTION:CAMBIO DE CARRERA Y TRASLADO DE REGIONAL PARA CICLO 01/2025
URL:https://www.unab.edu.sv/eventunab/cambio-de-carrera-y-traslado-de-regional-para-ciclo-01-2025/
LOCATION:Universidad Dr. Andrés Bello\, 1a Calle Pte. 2128\, San Salvador\, San Salvador\, 06015\, El Salvador
ATTACH;FMTTYPE=image/png:https://www.unab.edu.sv/wp-content/uploads/2024/12/Logos-U.png
END:VEVENT
BEGIN:VEVENT
DTSTART;TZID=America/El_Salvador:20250101T000000
DTEND;TZID=America/El_Salvador:20250101T235900
DTSTAMP:20260423T123322
CREATED:20241214T155859Z
LAST-MODIFIED:20250109T221139Z
UID:11428-1735689600-1735775940@www.unab.edu.sv
SUMMARY:ASUETO DE AÑO NUEVO
DESCRIPTION:Querida comunidad UNAB:\nAl cerrar un capítulo más en nuestras vidas y dar la bienvenida a un nuevo año\, queremos tomarnos un momento para reflexionar sobre todo lo que hemos logrado juntos en el 2024. Este año nos ha demostrado\, una vez más\, la fuerza y el compromiso que define a nuestra comunidad. \nCada logro académico\, cada investigación innovadora y cada paso que dimos para construir un futuro más prometedor fueron posibles gracias al esfuerzo\, la pasión y la dedicación de estudiantes\, docentes\, investigadores\, administrativos y egresados. \nEl 2025 se presenta ante nosotros como una nueva página en blanco\, llena de oportunidades para seguir creciendo\, aprendiendo y transformando el mundo desde nuestras aulas\, laboratorios y corazones. Estamos seguros de que juntos continuaremos marcando la diferencia\, inspirando cambios positivos y construyendo sueños que se conviertan en realidad. \nLes invitamos a recibir este nuevo año con esperanza\, gratitud y determinación. Que el 2025 esté lleno de aprendizajes significativos\, metas alcanzadas y momentos inolvidables junto a quienes más quieren. \nGracias por ser parte de nuestra familia UNAB. ¡Vamos por un 2025 lleno de éxitos! \nUniversidad Dr. Andrés Bello
URL:https://www.unab.edu.sv/eventunab/asueto-de-ano-nuevo/
LOCATION:Universidad Dr. Andrés Bello\, 1a Calle Pte. 2128\, San Salvador\, San Salvador\, 06015\, El Salvador
ATTACH;FMTTYPE=image/png:https://www.unab.edu.sv/wp-content/uploads/2024/12/Logos-U.png
END:VEVENT
BEGIN:VEVENT
DTSTART;TZID=America/El_Salvador:20241225T000000
DTEND;TZID=America/El_Salvador:20241225T235900
DTSTAMP:20260423T123322
CREATED:20241214T154343Z
LAST-MODIFIED:20241216T230817Z
UID:11426-1735084800-1735171140@www.unab.edu.sv
SUMMARY:ASUETO POR NAVIDAD
DESCRIPTION:🌟🎄🎁𝓜𝓮𝓻𝓻𝔂 𝓒𝓱𝓻𝓲𝓼𝓽𝓶𝓪𝓼 🎅🤶🦌« \nQuerida comunidad UNAB\, La Navidad es un tiempo para celebrar la vida\, la unión y la esperanza. En este año tan especial\, queremos expresar nuestra gratitud por formar parte de esta gran familia universitaria. Gracias a cada uno de nuestros estudiantes\, docentes\, administrativos y colaboradores por su dedicación y compromiso. Juntos hemos construido una comunidad académica sólida y llena de oportunidades. Les deseamos una Navidad llena de alegría\, paz y mucho amor. Que el próximo año esté lleno de éxitos y nuevos logros. ¡Felices Fiestas!»
URL:https://www.unab.edu.sv/eventunab/asueto-por-navidad/
LOCATION:Universidad Dr. Andrés Bello\, 1a Calle Pte. 2128\, San Salvador\, San Salvador\, 06015\, El Salvador
ATTACH;FMTTYPE=image/png:https://www.unab.edu.sv/wp-content/uploads/2024/12/Nuevo-Ingreso-Reingreso-Equivalencia-e1734191202122.png
END:VEVENT
BEGIN:VEVENT
DTSTART;TZID=America/El_Salvador:20241220T080000
DTEND;TZID=America/El_Salvador:20241220T235900
DTSTAMP:20260423T123322
CREATED:20241214T150128Z
LAST-MODIFIED:20241220T234741Z
UID:11420-1734681600-1734739140@www.unab.edu.sv
SUMMARY:ENTREGA DE NOTAS CICLO 02/2024
DESCRIPTION:EXIGENCIAS ECONÓMICAS: SOLVENCIA DEL CICLO
URL:https://www.unab.edu.sv/eventunab/entrega-de-notas-ciclo-02-2024/
LOCATION:Universidad Dr. Andrés Bello\, 1a Calle Pte. 2128\, San Salvador\, San Salvador\, 06015\, El Salvador
ATTACH;FMTTYPE=image/png:https://www.unab.edu.sv/wp-content/uploads/2024/12/Logos-U.png
END:VEVENT
BEGIN:VEVENT
DTSTART;TZID=America/El_Salvador:20241215T080000
DTEND;TZID=America/El_Salvador:20241215T200000
DTSTAMP:20260423T123322
CREATED:20241213T202322Z
LAST-MODIFIED:20241216T231539Z
UID:11376-1734249600-1734292800@www.unab.edu.sv
SUMMARY:Finalización de clases CICLO 02/2024
DESCRIPTION:¡Felicidades por culminar el Ciclo 02/2024! \nHoy celebramos no solo el cierre de un ciclo académico\, sino también el esfuerzo\, la dedicación y la pasión que cada uno de ustedes ha demostrado durante estos meses. Cada reto superado\, cada conocimiento adquirido y cada experiencia vivida son pasos firmes hacia un futuro lleno de oportunidades. \nSabemos que el camino no siempre es fácil\, pero ustedes han demostrado que con compromiso y perseverancia es posible alcanzar grandes cosas. Este cierre marca el fin de un capítulo\, pero también el inicio de nuevas aventuras y desafíos que fortalecerán su carácter y acercarán sus sueños. \nA nuestros estudiantes: gracias por su entusiasmo y resiliencia. A nuestros docentes y colaboradores: gracias por guiar e inspirar. Juntos hacemos de esta universidad un espacio de crecimiento y transformación. \nLlévense de este ciclo no solo las lecciones académicas\, sino también las humanas. Que cada logro alcanzado sea un recordatorio de su capacidad y que cada obstáculo superado les impulse a seguir adelante. \n¡Que este final sea el preludio de un futuro brillante y lleno de éxitos! \nCon orgullo y gratitud\,\nUniversidad Dr. Andrés Bello
URL:https://www.unab.edu.sv/eventunab/finalizacion-de-clases-ciclo-02-2024/
LOCATION:Universidad Dr. Andrés Bello\, 1a Calle Pte. 2128\, San Salvador\, San Salvador\, 06015\, El Salvador
ATTACH;FMTTYPE=image/png:https://www.unab.edu.sv/wp-content/uploads/2024/12/Logos-U.png
END:VEVENT
BEGIN:VEVENT
DTSTART;TZID=America/El_Salvador:20240902T080000
DTEND;TZID=America/El_Salvador:20250120T180000
DTSTAMP:20260423T123322
CREATED:20241216T172016Z
LAST-MODIFIED:20241216T172016Z
UID:11454-1725264000-1737396000@www.unab.edu.sv
SUMMARY:NUEVO INGRESO: ASESORÍA E INSCRIPCIÓN ORDINARIA
DESCRIPTION:EXIGENCIAS ECONÓMICAS: MATRÍCULA Y 1ª CUOTA
URL:https://www.unab.edu.sv/eventunab/nuevo-ingreso-asesoria-e-inscripcion-ordinaria/
ATTACH;FMTTYPE=image/png:https://www.unab.edu.sv/wp-content/uploads/2024/12/Logos-U.png
END:VEVENT
BEGIN:VEVENT
DTSTART;TZID=America/El_Salvador:20240902T080000
DTEND;TZID=America/El_Salvador:20250120T180000
DTSTAMP:20260423T123322
CREATED:20241216T142513Z
LAST-MODIFIED:20241216T165825Z
UID:11441-1725264000-1737396000@www.unab.edu.sv
SUMMARY:NUEVO INGRESO: MATRÍCULA ORDINARIA CICLO 01/2025
DESCRIPTION:EXIGENCIAS ECONÓMICAS: MATRÍCULA Y 1ª CUOTA
URL:https://www.unab.edu.sv/eventunab/matricula-ordinaria-ciclo-01-2025/
LOCATION:Universidad Dr. Andrés Bello\, 1a Calle Pte. 2128\, San Salvador\, San Salvador\, 06015\, El Salvador
ATTACH;FMTTYPE=image/png:https://www.unab.edu.sv/wp-content/uploads/2024/12/Logos-U.png
END:VEVENT
END:VCALENDAR